BEGIN:VCALENDAR
VERSION:2.0
PRODID:-//Hardy and Nance Studios - ECPv5.1.5//NONSGML v1.0//EN
CALSCALE:GREGORIAN
METHOD:PUBLISH
X-WR-CALNAME:Hardy and Nance Studios
X-ORIGINAL-URL:https://hardyandnancestudios.com
X-WR-CALDESC:Events for Hardy and Nance Studios
BEGIN:VTIMEZONE
TZID:UTC
BEGIN:STANDARD
TZOFFSETFROM:+0000
TZOFFSETTO:+0000
TZNAME:UTC
DTSTART:20240101T000000
END:STANDARD
END:VTIMEZONE
BEGIN:VEVENT
DTSTART;TZID=UTC:20241019T170000
DTEND;TZID=UTC:20241019T210000
DTSTAMP:20260419T134616
CREATED:20240321T194441Z
LAST-MODIFIED:20240921T161231Z
UID:2448-1729357200-1729371600@hardyandnancestudios.com
SUMMARY:100th Anniversary Surrealism
DESCRIPTION:An art show in honor of the Surrealist Manifesto’s 100th Birthday. \nProspectus Available \nJuror: Dr. Anna Tahinci\, department chair of art history at the Glassell School of Art at the Museum of Fine Arts\, Houston. \nCost: $25 for three (3 images)\, plus $10 for each additional image submitted. \nSubmission deadline: 11:59PM September 27\, 2024 \nEvent Details: Cash prizes will be awarded at the show. \n
URL:https://hardyandnancestudios.com/event/100th-anniversary-surrealism/
LOCATION:Hardy & Nance Studios\, 902 Hardy Street\, Houston\, TX\, 77020\, United States
ATTACH;FMTTYPE=image/jpeg:https://hardyandnancestudios.com/wp-content/uploads/2024/03/241019-Surrealism.jpg
END:VEVENT
END:VCALENDAR