BEGIN:VCALENDAR
VERSION:2.0
PRODID:-//Hardy and Nance Studios - ECPv5.1.5//NONSGML v1.0//EN
CALSCALE:GREGORIAN
METHOD:PUBLISH
X-WR-CALNAME:Hardy and Nance Studios
X-ORIGINAL-URL:https://hardyandnancestudios.com
X-WR-CALDESC:Events for Hardy and Nance Studios
BEGIN:VTIMEZONE
TZID:UTC
BEGIN:STANDARD
TZOFFSETFROM:+0000
TZOFFSETTO:+0000
TZNAME:UTC
DTSTART:20240101T000000
END:STANDARD
END:VTIMEZONE
BEGIN:VEVENT
DTSTART;TZID=UTC:20240921T170000
DTEND;TZID=UTC:20240921T210000
DTSTAMP:20260421T205232
CREATED:20240921T160557Z
LAST-MODIFIED:20240921T160653Z
UID:2489-1726938000-1726952400@hardyandnancestudios.com
SUMMARY:Signature: A Selection of Distinctive Styles
DESCRIPTION:Hardy & Nance Studios is pleased to announce “Signature” art show that will be displayed on Saturday\, September 21\, 2024\, from 5-9 pm. \nOver 40 local artists are exhibiting artwork that’s indicative of their signature style in our gallery. \nH&N Residents will also have their studios open. \nFree Event with Free Street Parking. Family friendly. Complimentary refreshments. \nSpecial thanks to Saint Arnold Brewing Co. \n
URL:https://hardyandnancestudios.com/event/signature-a-selection-of-distinctive-styles/
LOCATION:Hardy & Nance Studios\, 902 Hardy Street\, Houston\, TX\, 77020\, United States
ATTACH;FMTTYPE=image/jpeg:https://hardyandnancestudios.com/wp-content/uploads/2024/09/240921-Signature.jpg
END:VEVENT
END:VCALENDAR