BEGIN:VCALENDAR
VERSION:2.0
PRODID:-//Hardy and Nance Studios - ECPv5.1.5//NONSGML v1.0//EN
CALSCALE:GREGORIAN
METHOD:PUBLISH
X-WR-CALNAME:Hardy and Nance Studios
X-ORIGINAL-URL:https://hardyandnancestudios.com
X-WR-CALDESC:Events for Hardy and Nance Studios
BEGIN:VTIMEZONE
TZID:UTC
BEGIN:STANDARD
TZOFFSETFROM:+0000
TZOFFSETTO:+0000
TZNAME:UTC
DTSTART:20230101T000000
END:STANDARD
END:VTIMEZONE
BEGIN:VEVENT
DTSTART;TZID=UTC:20230707T190000
DTEND;TZID=UTC:20230707T230000
DTSTAMP:20260422T013114
CREATED:20230613T170348Z
LAST-MODIFIED:20230613T170348Z
UID:2217-1688756400-1688770800@hardyandnancestudios.com
SUMMARY:Near Dark: A Black Light Art Show
DESCRIPTION:\n\nInsomnia Presents…\nNear Dark: A Black Light Art Show\nat Hardy & Nance Studios (902 Hardy St.)\n\nFriday July 7th 7PM – 11PM\nFREE SHOW // ALL AGES WELCOME\nNobody knows quite how black lights work. Okay\, maybe scientists do. Your dad probably does too\, but either way they’re undeniably cool and watching artwork react to them is nothing short of amazing!\n\nJoin us on Friday July 7th as we host an art show featuring local artists creating work that will ALL be black light sensitive. When we say “sensitive” I mean these suckers G L O W ! !\nWe’ve put on this show three times in the past and it still amazes me to watch the artwork transform! You HAVE to see it in person to really experience it!\nWe’ll dark out any hallway lights\, kill the house lights\, and replace them with black lights to create a unique experience unlike any art show you’ve ever seen!\nGuests are encouraged to wear neon colors and we’ll have highlighters on hand if you want to bedazzle yourself and get rEAcTivE!!\nAs always\, we’ll have free booze on hand courtesy of Eureka Heights Brew Co\, Bad Astronaut Brewing\, Equal Parts Brewing and ciders from City Orchard! Cocktails and wine available as well!\n\nParticipating Artists List TBA\nThis is going to be an awesome show- art\, music\, movies\, drinks\, and chill vibes. Food truck tba.\n\nInterested artists: Shoot us an email to TheInsomniaGallery@gmail.com with a link to your work or upload a few pics!\n  \n
URL:https://hardyandnancestudios.com/event/near-dark-a-black-light-art-show/
LOCATION:Hardy & Nance Studios\, 902 Hardy Street\, Houston\, TX\, 77020\, United States
END:VEVENT
END:VCALENDAR