BEGIN:VCALENDAR
VERSION:2.0
PRODID:-//Hardy and Nance Studios - ECPv5.1.5//NONSGML v1.0//EN
CALSCALE:GREGORIAN
METHOD:PUBLISH
X-WR-CALNAME:Hardy and Nance Studios
X-ORIGINAL-URL:https://hardyandnancestudios.com
X-WR-CALDESC:Events for Hardy and Nance Studios
BEGIN:VTIMEZONE
TZID:UTC
BEGIN:STANDARD
TZOFFSETFROM:+0000
TZOFFSETTO:+0000
TZNAME:UTC
DTSTART:20230101T000000
END:STANDARD
END:VTIMEZONE
BEGIN:VEVENT
DTSTART;TZID=UTC:20230401T160000
DTEND;TZID=UTC:20230401T220000
DTSTAMP:20260422T010125
CREATED:20230213T143353Z
LAST-MODIFIED:20230220T175410Z
UID:2143-1680364800-1680386400@hardyandnancestudios.com
SUMMARY:Tod Waters - Costumes \, Creatures and Comics
DESCRIPTION:\n\nCome see a collection of art from Houston artist Tod Waters . The art will span from 1992 til present. Pencil drawings \, sculptures and costumes will be featured . Stand outs will be costumes from a Clive Barker project \, costumes from Motley Crue singer Vince Neil and artifacts from the band Dimmu Borger . Limited edition posters and T shirts will also be available .\n\nArt Show Hours\nFriday March 31 st 7 pm to 10 pm\nSaturday April 1 st 4 pm to 10 pm\nYou can also RSVP to see the show 12 noon to 4 pm Saturday and get some one on one with the artist .\n  \n
URL:https://hardyandnancestudios.com/event/tod-waters-costumes-creatures-and-comics-art-show-sat/
LOCATION:Hardy & Nance Studios\, 902 Hardy Street\, Houston\, TX\, 77020\, United States
END:VEVENT
END:VCALENDAR