BEGIN:VCALENDAR
VERSION:2.0
PRODID:-//Hardy and Nance Studios - ECPv5.1.5//NONSGML v1.0//EN
CALSCALE:GREGORIAN
METHOD:PUBLISH
X-WR-CALNAME:Hardy and Nance Studios
X-ORIGINAL-URL:https://hardyandnancestudios.com
X-WR-CALDESC:Events for Hardy and Nance Studios
BEGIN:VTIMEZONE
TZID:UTC
BEGIN:STANDARD
TZOFFSETFROM:+0000
TZOFFSETTO:+0000
TZNAME:UTC
DTSTART:20220101T000000
END:STANDARD
END:VTIMEZONE
BEGIN:VEVENT
DTSTART;TZID=UTC:20221126T130000
DTEND;TZID=UTC:20221126T170000
DTSTAMP:20260420T080635
CREATED:20221012T140111Z
LAST-MODIFIED:20221121T191148Z
UID:2074-1669467600-1669482000@hardyandnancestudios.com
SUMMARY:Punk Rock Garage Sale
DESCRIPTION:\nInsomnia Gallery and Deep End Records are excited to announce our next Punk Rock Garage Sale for November! We’re going to be enjoying this fall weather by hosting this indoor/outdoor market in the afternoon for Small Business Saturday!\n\nWe’ll have FREE adult beverages\, dozens of vendors\, food and music to make this market kick azz!\nSkip those big box retailers and avoid the shipping sweats- Come to Insomnia Gallery’s Punk Rock Garage Sale instead for a true chance to score! About 30+ individual vendors will fill up the gallery and back patio at Hardy & Nance offering up everything cool- music\, art\, toys and books\, to comics\, clothing\, music gear\, and crazy handmade offerings!\n\nNEW VENDORS EVERY MONTH! We’ll mix in a few pro vendors and artists as well to bring you a truly unique market each and every month!\n\nAbout this event:\nBased on the punk rock garage sales that took place regularly at the Walter’s on Washington\, Insomnia Gallery is hoping to keep this tradition alive! Records\, zines\, tapes\, toys\, vintage clothing\, music gear\, skate and bike parts\, and all kinds of items will be available. Got a distro? Bring it! Local band with some leftover merch? Set it up! Sitting on some records you haven’t played in a while? Trade with a new friend and bring home something new! DIY forever.\n\nSale hours: 1:00pm – 5:00pm\n\nLocation: Hardy & Nance Studios\n\n** INTERESTED IN SETTING UP? Contact deependhtx@gmail.com with a general description of the items you’d like to sell and we’ll get back with you asap! Table fee is just $15 to cover admin and promotion costs!\n  \n  \n
URL:https://hardyandnancestudios.com/event/punk-rock-garage-sale-night-market/
LOCATION:Hardy & Nance Studios\, 902 Hardy Street\, Houston\, TX\, 77020\, United States
END:VEVENT
END:VCALENDAR