BEGIN:VCALENDAR
VERSION:2.0
PRODID:-//Hardy and Nance Studios - ECPv5.1.5//NONSGML v1.0//EN
CALSCALE:GREGORIAN
METHOD:PUBLISH
X-WR-CALNAME:Hardy and Nance Studios
X-ORIGINAL-URL:https://hardyandnancestudios.com
X-WR-CALDESC:Events for Hardy and Nance Studios
BEGIN:VTIMEZONE
TZID:UTC
BEGIN:STANDARD
TZOFFSETFROM:+0000
TZOFFSETTO:+0000
TZNAME:UTC
DTSTART:20240101T000000
END:STANDARD
END:VTIMEZONE
BEGIN:VEVENT
DTSTART;TZID=UTC:20240406T180000
DTEND;TZID=UTC:20240406T210000
DTSTAMP:20260421T051101
CREATED:20240308T140920Z
LAST-MODIFIED:20240308T140920Z
UID:2341-1712426400-1712437200@hardyandnancestudios.com
SUMMARY:Figuratively Speaking: The Human Figure in Art
DESCRIPTION: \nFeatured Artists\nWood Fancher Anthony\nRobin Baker\nKelley Devine\nHowie Doyle\nLinzi Goyette\nToria Hill\nMichelle Huff\nRebekah Molander\nPatrick Palmer\nStäcy Smith\n\nThe human figure — the body\, its gestures and expressions — is meaningful to everyone. We use it to communicate with each other. Our brains are wired to find and identify the face and figure in our field of view before our rational mind even kicks into gear. Thus\, artistic interpretations of the figure are as diverse as the artists themselves. Sometimes shown in abstraction\, sometimes in representational style — and all points in between — the figure becomes a vehicle for the artist’s spiritual\, emotional\, visceral\, intellectual and aesthetic visions.\n\nJoin us for a select collection of paintings that show the enthusiasm\, intensity\, and complexity of the human condition through the human figure through the eyes of ten of the area’s best artists.\n  \n
URL:https://hardyandnancestudios.com/event/figuratively-speaking-the-human-figure-in-art/
LOCATION:Hardy & Nance Studios\, 902 Hardy Street\, Houston\, TX\, 77020\, United States
END:VEVENT
END:VCALENDAR