BEGIN:VCALENDAR
VERSION:2.0
PRODID:-//Hardy and Nance Studios - ECPv5.1.5//NONSGML v1.0//EN
CALSCALE:GREGORIAN
METHOD:PUBLISH
X-WR-CALNAME:Hardy and Nance Studios
X-ORIGINAL-URL:https://hardyandnancestudios.com
X-WR-CALDESC:Events for Hardy and Nance Studios
BEGIN:VTIMEZONE
TZID:UTC
BEGIN:STANDARD
TZOFFSETFROM:+0000
TZOFFSETTO:+0000
TZNAME:UTC
DTSTART:20240101T000000
END:STANDARD
END:VTIMEZONE
BEGIN:VEVENT
DTSTART;TZID=UTC:20240224T160000
DTEND;TZID=UTC:20240224T220000
DTSTAMP:20260420T211423
CREATED:20240131T175954Z
LAST-MODIFIED:20240131T175954Z
UID:2320-1708790400-1708812000@hardyandnancestudios.com
SUMMARY:Encounters
DESCRIPTION:\n\n“Encounters”: Artists Peter Broz\, Cynthia Coffield\, and Leslie Roades explore the subject of nature through a variety of approaches to painting.\n\nOn view Saturday\, February 24 from 4-10 p.m.\n\nThis event is open to the public and free to attend. Free street parking around the studios. Drinks and light snacks will be provided.\n  \n
URL:https://hardyandnancestudios.com/event/encounters/
LOCATION:Hardy & Nance Studios\, 902 Hardy Street\, Houston\, TX\, 77020\, United States
END:VEVENT
END:VCALENDAR