BEGIN:VCALENDAR
VERSION:2.0
PRODID:-//Hardy and Nance Studios - ECPv5.1.5//NONSGML v1.0//EN
CALSCALE:GREGORIAN
METHOD:PUBLISH
X-WR-CALNAME:Hardy and Nance Studios
X-ORIGINAL-URL:https://hardyandnancestudios.com
X-WR-CALDESC:Events for Hardy and Nance Studios
BEGIN:VTIMEZONE
TZID:UTC
BEGIN:STANDARD
TZOFFSETFROM:+0000
TZOFFSETTO:+0000
TZNAME:UTC
DTSTART:20220101T000000
END:STANDARD
END:VTIMEZONE
BEGIN:VEVENT
DTSTART;TZID=UTC:20221119T100000
DTEND;TZID=UTC:20221119T210000
DTSTAMP:20260420T093617
CREATED:20221018T141247Z
LAST-MODIFIED:20221018T141404Z
UID:2081-1668852000-1668891600@hardyandnancestudios.com
SUMMARY:30th Annual Art Crawl
DESCRIPTION:\n\n30th Annual ARTCRAWL:\n\nAll participating locations will be open:\nSATURDAY – November 19\, 2022\n10:00am – 9:00pm\n\nHardy & Nance Studios (only) will also be open FRIDAY\, November 18th\, 6p – 9p for a special preview.\n\nAn event in which artists in the old & historic\, Downtown Art Warehouse District\, open the doors to their working studios and invite the public in for a peek at what happens behind the scenes.\n\nThis tradition started in 1992 by Mother Dog Studios and takes place the weekend before Thanksgiving.\n\nOFFICIAL ARTCRAWL WEBSITE: https://www.motherdogstudios.org/\nhttps://www.facebook.com/motherdogstudioshouston\nH&N will once again be a participating location during ARTCRAWL. Over 50 Resident Artists will be opening their doors for you to peruse their studios and purchase art. Painters\, illustrators\, photographers\, potters\, sculptors & more… all under one roof.\nhttps://www.hardyandnancestudios.com/artists/\nIn addition to open studios\, we have a collection of interactive installations and immersive art within our gallery created by several talented guest artists. (Artist list coming soon!)\n\nThere will also be an outdoor market at our location on Saturday from noon-9pm.\nFood Truck (TBD)\nFree Entry – Free Parking – Complimentary Drinks\n\nSpecial shout out to Karbach Brewing Company.\n  \n
URL:https://hardyandnancestudios.com/event/30th-annual-art-crawl/
LOCATION:Hardy & Nance Studios\, 902 Hardy Street\, Houston\, TX\, 77020\, United States
END:VEVENT
END:VCALENDAR